BEGIN:VCALENDAR
VERSION:2.0
PRODID:-//Metrix//NONSGML Sternen TV//DE
CALSCALE:GREGORIAN
METHOD:PUBLISH
BEGIN:VEVENT
DTSTART:20260421T090000
DTEND:20260421T100000
DTSTAMP:20260421T090000
UID:69e738832903f3.84364147@sternen
CREATED:20260421T084243
DESCRIPTION:ALEKS STERNEN: La Barca
LAST-MODIFIED:20260421T084243
SEQUENCE:30
STATUS:CONFIRMED
SUMMARY:ALEKS STERNEN: La Barca
TRANSP:OPAQUE
END:VEVENT
BEGIN:VEVENT
DTSTART:20260421T110000
DTEND:20260421T120000
DTSTAMP:20260421T110000
UID:69e73883290565.28674359@sternen
CREATED:20260421T084243
DESCRIPTION:ALEKS STERNEN: La Barca
LAST-MODIFIED:20260421T084243
SEQUENCE:31
STATUS:CONFIRMED
SUMMARY:ALEKS STERNEN: La Barca
TRANSP:OPAQUE
END:VEVENT
BEGIN:VEVENT
DTSTART:20260421T170000
DTEND:20260421T180000
DTSTAMP:20260421T170000
UID:69e73883290612.73907887@sternen
CREATED:20260421T084243
DESCRIPTION:ALEKS STERNEN: Sternengold
LAST-MODIFIED:20260421T084243
SEQUENCE:32
STATUS:CONFIRMED
SUMMARY:ALEKS STERNEN: Sternengold
TRANSP:OPAQUE
END:VEVENT
BEGIN:VEVENT
DTSTART:20260425T140000
DTEND:20260425T150000
DTSTAMP:20260425T140000
UID:69e738832906b6.92359551@sternen
CREATED:20260421T084243
DESCRIPTION:ALEKS STERNEN: La Barca
LAST-MODIFIED:20260421T084243
SEQUENCE:33
STATUS:CONFIRMED
SUMMARY:ALEKS STERNEN: La Barca
TRANSP:OPAQUE
END:VEVENT
BEGIN:VEVENT
DTSTART:20260425T200000
DTEND:20260425T210000
DTSTAMP:20260425T200000
UID:69e73883290745.62406880@sternen
CREATED:20260421T084243
DESCRIPTION:ALEKS STERNEN: Sternengold
LAST-MODIFIED:20260421T084243
SEQUENCE:34
STATUS:CONFIRMED
SUMMARY:ALEKS STERNEN: Sternengold
TRANSP:OPAQUE
END:VEVENT
BEGIN:VEVENT
DTSTART:20260425T230000
DTEND:20260426T000000
DTSTAMP:20260425T230000
UID:69e73883290841.85495384@sternen
CREATED:20260421T084243
DESCRIPTION:ALEKS STERNEN: Sternengold
LAST-MODIFIED:20260421T084243
SEQUENCE:35
STATUS:CONFIRMED
SUMMARY:ALEKS STERNEN: Sternengold
TRANSP:OPAQUE
END:VEVENT
BEGIN:VEVENT
DTSTART:20260426T140000
DTEND:20260426T150000
DTSTAMP:20260426T140000
UID:69e738832908e2.32689618@sternen
CREATED:20260421T084243
DESCRIPTION:ALEKS STERNEN: La Barca
LAST-MODIFIED:20260421T084243
SEQUENCE:36
STATUS:CONFIRMED
SUMMARY:ALEKS STERNEN: La Barca
TRANSP:OPAQUE
END:VEVENT
BEGIN:VEVENT
DTSTART:20260426T190000
DTEND:20260426T200000
DTSTAMP:20260426T190000
UID:69e73883290985.61939371@sternen
CREATED:20260421T084243
DESCRIPTION:ALEKS STERNEN: Sternengold
LAST-MODIFIED:20260421T084243
SEQUENCE:37
STATUS:CONFIRMED
SUMMARY:ALEKS STERNEN: Sternengold
TRANSP:OPAQUE
END:VEVENT
BEGIN:VEVENT
DTSTART:20260426T220000
DTEND:20260426T230000
DTSTAMP:20260426T220000
UID:69e73883290a20.84198818@sternen
CREATED:20260421T084243
DESCRIPTION:ALEKS STERNEN: Sternengold
LAST-MODIFIED:20260421T084243
SEQUENCE:38
STATUS:CONFIRMED
SUMMARY:ALEKS STERNEN: Sternengold
TRANSP:OPAQUE
END:VEVENT
BEGIN:VEVENT
DTSTART:20260514T090000
DTEND:20260514T100000
DTSTAMP:20260514T090000
UID:69e73883290ab1.10804644@sternen
CREATED:20260421T084243
DESCRIPTION:ALEKS STERNEN: La Barca
LAST-MODIFIED:20260421T084243
SEQUENCE:39
STATUS:CONFIRMED
SUMMARY:ALEKS STERNEN: La Barca
TRANSP:OPAQUE
END:VEVENT
BEGIN:VEVENT
DTSTART:20260514T140000
DTEND:20260514T150000
DTSTAMP:20260514T140000
UID:69e73883290b57.46492302@sternen
CREATED:20260421T084243
DESCRIPTION:ALEKS STERNEN: La Barca
LAST-MODIFIED:20260421T084243
SEQUENCE:40
STATUS:CONFIRMED
SUMMARY:ALEKS STERNEN: La Barca
TRANSP:OPAQUE
END:VEVENT
BEGIN:VEVENT
DTSTART:20260516T110000
DTEND:20260516T120000
DTSTAMP:20260516T110000
UID:69e73883290bf2.90467632@sternen
CREATED:20260421T084243
DESCRIPTION:ALEKS STERNEN: Sternengold
LAST-MODIFIED:20260421T084243
SEQUENCE:41
STATUS:CONFIRMED
SUMMARY:ALEKS STERNEN: Sternengold
TRANSP:OPAQUE
END:VEVENT
BEGIN:VEVENT
DTSTART:20260516T160000
DTEND:20260516T170000
DTSTAMP:20260516T160000
UID:69e73883290c80.50059831@sternen
CREATED:20260421T084243
DESCRIPTION:ALEKS STERNEN: Sternengold
LAST-MODIFIED:20260421T084243
SEQUENCE:42
STATUS:CONFIRMED
SUMMARY:ALEKS STERNEN: Sternengold
TRANSP:OPAQUE
END:VEVENT
BEGIN:VEVENT
DTSTART:20260516T190000
DTEND:20260516T200000
DTSTAMP:20260516T190000
UID:69e73883290d11.58269512@sternen
CREATED:20260421T084243
DESCRIPTION:ALEKS STERNEN: Sternengold
LAST-MODIFIED:20260421T084243
SEQUENCE:43
STATUS:CONFIRMED
SUMMARY:ALEKS STERNEN: Sternengold
TRANSP:OPAQUE
END:VEVENT
BEGIN:VEVENT
DTSTART:20260516T230000
DTEND:20260517T000000
DTSTAMP:20260516T230000
UID:69e73883290db1.67677931@sternen
CREATED:20260421T084243
DESCRIPTION:ALEKS STERNEN: Sternengold
LAST-MODIFIED:20260421T084243
SEQUENCE:44
STATUS:CONFIRMED
SUMMARY:ALEKS STERNEN: Sternengold
TRANSP:OPAQUE
END:VEVENT
BEGIN:VEVENT
DTSTART:20260517T110000
DTEND:20260517T120000
DTSTAMP:20260517T110000
UID:69e73883290e41.23214695@sternen
CREATED:20260421T084243
DESCRIPTION:ALEKS STERNEN: Sternengold
LAST-MODIFIED:20260421T084243
SEQUENCE:45
STATUS:CONFIRMED
SUMMARY:ALEKS STERNEN: Sternengold
TRANSP:OPAQUE
END:VEVENT
BEGIN:VEVENT
DTSTART:20260517T120000
DTEND:20260517T130000
DTSTAMP:20260517T120000
UID:69e73883290ee3.02840060@sternen
CREATED:20260421T084243
DESCRIPTION:ALEKS STERNEN: Sternengold
LAST-MODIFIED:20260421T084243
SEQUENCE:46
STATUS:CONFIRMED
SUMMARY:ALEKS STERNEN: Sternengold
TRANSP:OPAQUE
END:VEVENT
BEGIN:VEVENT
DTSTART:20260517T150000
DTEND:20260517T160000
DTSTAMP:20260517T150000
UID:69e73883290f79.14111733@sternen
CREATED:20260421T084243
DESCRIPTION:ALEKS STERNEN: Sternengold
LAST-MODIFIED:20260421T084243
SEQUENCE:47
STATUS:CONFIRMED
SUMMARY:ALEKS STERNEN: Sternengold
TRANSP:OPAQUE
END:VEVENT
BEGIN:VEVENT
DTSTART:20260517T170000
DTEND:20260517T180000
DTSTAMP:20260517T170000
UID:69e73883291005.55437164@sternen
CREATED:20260421T084243
DESCRIPTION:ALEKS STERNEN: Sternengold
LAST-MODIFIED:20260421T084243
SEQUENCE:48
STATUS:CONFIRMED
SUMMARY:ALEKS STERNEN: Sternengold
TRANSP:OPAQUE
END:VEVENT
BEGIN:VEVENT
DTSTART:20260517T190000
DTEND:20260517T200000
DTSTAMP:20260517T190000
UID:69e73883291092.04672866@sternen
CREATED:20260421T084243
DESCRIPTION:ALEKS STERNEN: Sternengold
LAST-MODIFIED:20260421T084243
SEQUENCE:49
STATUS:CONFIRMED
SUMMARY:ALEKS STERNEN: Sternengold
TRANSP:OPAQUE
END:VEVENT
BEGIN:VEVENT
DTSTART:20260517T220000
DTEND:20260517T230000
DTSTAMP:20260517T220000
UID:69e73883291125.62192859@sternen
CREATED:20260421T084243
DESCRIPTION:ALEKS STERNEN: Sternengold
LAST-MODIFIED:20260421T084243
SEQUENCE:50
STATUS:CONFIRMED
SUMMARY:ALEKS STERNEN: Sternengold
TRANSP:OPAQUE
END:VEVENT
BEGIN:VEVENT
DTSTART:20260521T120000
DTEND:20260521T130000
DTSTAMP:20260521T120000
UID:69e738832911b4.76490672@sternen
CREATED:20260421T084243
DESCRIPTION:ALEKS STERNEN: Sternengold
LAST-MODIFIED:20260421T084243
SEQUENCE:51
STATUS:CONFIRMED
SUMMARY:ALEKS STERNEN: Sternengold
TRANSP:OPAQUE
END:VEVENT
BEGIN:VEVENT
DTSTART:20260521T150000
DTEND:20260521T160000
DTSTAMP:20260521T150000
UID:69e73883291240.84663306@sternen
CREATED:20260421T084243
DESCRIPTION:ALEKS STERNEN: Sternengold
LAST-MODIFIED:20260421T084243
SEQUENCE:52
STATUS:CONFIRMED
SUMMARY:ALEKS STERNEN: Sternengold
TRANSP:OPAQUE
END:VEVENT
BEGIN:VEVENT
DTSTART:20260521T190000
DTEND:20260521T200000
DTSTAMP:20260521T190000
UID:69e738832912d1.99395183@sternen
CREATED:20260421T084243
DESCRIPTION:ALEKS STERNEN: Sternengold
LAST-MODIFIED:20260421T084243
SEQUENCE:53
STATUS:CONFIRMED
SUMMARY:ALEKS STERNEN: Sternengold
TRANSP:OPAQUE
END:VEVENT
BEGIN:VEVENT
DTSTART:20260523T120000
DTEND:20260523T130000
DTSTAMP:20260523T120000
UID:69e73883291364.71562455@sternen
CREATED:20260421T084243
DESCRIPTION:ALEKS STERNEN: Sternengold
LAST-MODIFIED:20260421T084243
SEQUENCE:54
STATUS:CONFIRMED
SUMMARY:ALEKS STERNEN: Sternengold
TRANSP:OPAQUE
END:VEVENT
BEGIN:VEVENT
DTSTART:20260523T160000
DTEND:20260523T170000
DTSTAMP:20260523T160000
UID:69e738832913f4.35929175@sternen
CREATED:20260421T084243
DESCRIPTION:ALEKS STERNEN: Sternengold
LAST-MODIFIED:20260421T084243
SEQUENCE:55
STATUS:CONFIRMED
SUMMARY:ALEKS STERNEN: Sternengold
TRANSP:OPAQUE
END:VEVENT
BEGIN:VEVENT
DTSTART:20260523T190000
DTEND:20260523T200000
DTSTAMP:20260523T190000
UID:69e73883291516.45377436@sternen
CREATED:20260421T084243
DESCRIPTION:ALEKS STERNEN: Sternengold
LAST-MODIFIED:20260421T084243
SEQUENCE:56
STATUS:CONFIRMED
SUMMARY:ALEKS STERNEN: Sternengold
TRANSP:OPAQUE
END:VEVENT
BEGIN:VEVENT
DTSTART:20260523T220000
DTEND:20260523T230000
DTSTAMP:20260523T220000
UID:69e738832915b7.98102100@sternen
CREATED:20260421T084243
DESCRIPTION:ALEKS STERNEN: Sternengold
LAST-MODIFIED:20260421T084243
SEQUENCE:57
STATUS:CONFIRMED
SUMMARY:ALEKS STERNEN: Sternengold
TRANSP:OPAQUE
END:VEVENT
BEGIN:VEVENT
DTSTART:20260530T230000
DTEND:20260531T000000
DTSTAMP:20260530T230000
UID:69e73883291660.53579626@sternen
CREATED:20260421T084243
DESCRIPTION:ALEKS STERNEN: La Barca
LAST-MODIFIED:20260421T084243
SEQUENCE:58
STATUS:CONFIRMED
SUMMARY:ALEKS STERNEN: La Barca
TRANSP:OPAQUE
END:VEVENT
BEGIN:VEVENT
DTSTART:20260531T110000
DTEND:20260531T120000
DTSTAMP:20260531T110000
UID:69e738832916f0.05328428@sternen
CREATED:20260421T084243
DESCRIPTION:ALEKS STERNEN: La Barca
LAST-MODIFIED:20260421T084243
SEQUENCE:59
STATUS:CONFIRMED
SUMMARY:ALEKS STERNEN: La Barca
TRANSP:OPAQUE
END:VEVENT
BEGIN:VEVENT
DTSTART:20260531T140000
DTEND:20260531T150000
DTSTAMP:20260531T140000
UID:69e73883291787.25562244@sternen
CREATED:20260421T084243
DESCRIPTION:ALEKS STERNEN: La Barca
LAST-MODIFIED:20260421T084243
SEQUENCE:60
STATUS:CONFIRMED
SUMMARY:ALEKS STERNEN: La Barca
TRANSP:OPAQUE
END:VEVENT
BEGIN:VEVENT
DTSTART:20260531T170000
DTEND:20260531T180000
DTSTAMP:20260531T170000
UID:69e73883291815.81275577@sternen
CREATED:20260421T084243
DESCRIPTION:ALEKS STERNEN: La Barca
LAST-MODIFIED:20260421T084243
SEQUENCE:61
STATUS:CONFIRMED
SUMMARY:ALEKS STERNEN: La Barca
TRANSP:OPAQUE
END:VEVENT
BEGIN:VEVENT
DTSTART:20260531T220000
DTEND:20260531T230000
DTSTAMP:20260531T220000
UID:69e738832918a4.46024980@sternen
CREATED:20260421T084243
DESCRIPTION:ALEKS STERNEN: La Barca
LAST-MODIFIED:20260421T084243
SEQUENCE:62
STATUS:CONFIRMED
SUMMARY:ALEKS STERNEN: La Barca
TRANSP:OPAQUE
END:VEVENT
END:VCALENDAR
